BEGIN:VCALENDAR
VERSION:2.0
PRODID:-// Bert Back - ECPv6.15.15//NONSGML v1.0//EN
CALSCALE:GREGORIAN
METHOD:PUBLISH
X-ORIGINAL-URL:https://www.bertback.nl
X-WR-CALDESC:Evenementen voor  Bert Back
REFRESH-INTERVAL;VALUE=DURATION:PT1H
X-Robots-Tag:noindex
X-PUBLISHED-TTL:PT1H
BEGIN:VTIMEZONE
TZID:UTC
BEGIN:STANDARD
TZOFFSETFROM:+0000
TZOFFSETTO:+0000
TZNAME:UTC
DTSTART:20240101T000000
END:STANDARD
END:VTIMEZONE
BEGIN:VEVENT
DTSTART;TZID=UTC:20251214T110000
DTEND;TZID=UTC:20251214T170000
DTSTAMP:20260423T125453
CREATED:20250609T132650Z
LAST-MODIFIED:20250730T124927Z
UID:21268-1765710000-1765731600@www.bertback.nl
SUMMARY:Aisa Beurs den Bosch
DESCRIPTION:
URL:https://www.bertback.nl/event/aisa-beurs-den-bosch/
LOCATION:Sociaal Cultureel centrum\, De helftheuvelpassage 115\, Den Bosch\, Netherlands
CATEGORIES:Beurs
END:VEVENT
BEGIN:VEVENT
DTSTART;TZID=UTC:20251214T110000
DTEND;TZID=UTC:20251214T170000
DTSTAMP:20260423T125453
CREATED:20250730T125017Z
LAST-MODIFIED:20250730T125017Z
UID:21304-1765710000-1765731600@www.bertback.nl
SUMMARY:Spirituele beurs Asia Den Bosch
DESCRIPTION:11:00-17:00
URL:https://www.bertback.nl/event/spirituele-beurs-asia-den-bosch/
LOCATION:Gemeenschapshuis Lievendaal\, lievendaalseweg 3\, Eindhoven\, 5652SB\, Nederland
CATEGORIES:Beurs
END:VEVENT
END:VCALENDAR