BEGIN:VCALENDAR
VERSION:2.0
PRODID:-// Bert Back - ECPv6.15.15//NONSGML v1.0//EN
CALSCALE:GREGORIAN
METHOD:PUBLISH
X-ORIGINAL-URL:https://www.bertback.nl
X-WR-CALDESC:Evenementen voor  Bert Back
REFRESH-INTERVAL;VALUE=DURATION:PT1H
X-Robots-Tag:noindex
X-PUBLISHED-TTL:PT1H
BEGIN:VTIMEZONE
TZID:UTC
BEGIN:STANDARD
TZOFFSETFROM:+0000
TZOFFSETTO:+0000
TZNAME:UTC
DTSTART:20250101T000000
END:STANDARD
END:VTIMEZONE
BEGIN:VEVENT
DTSTART;TZID=UTC:20260207T100000
DTEND;TZID=UTC:20260208T170000
DTSTAMP:20260423T114210
CREATED:20250730T123832Z
LAST-MODIFIED:20260203T185427Z
UID:21302-1770458400-1770570000@www.bertback.nl
SUMMARY:Spiritueel Alternatiefbeurs Rijswijk
DESCRIPTION:Stand G09
URL:https://www.bertback.nl/event/spiritueel-alternatiefbeurs-rijswijk/
LOCATION:De Broodfabriek\, Volmerlaan 12\, Rijswijk\, 2288 GD\, Nederland
CATEGORIES:Beurs
END:VEVENT
BEGIN:VEVENT
DTSTART;TZID=UTC:20260308T103000
DTEND;TZID=UTC:20260308T163000
DTSTAMP:20260423T114210
CREATED:20240807T121944Z
LAST-MODIFIED:20260203T190514Z
UID:20522-1772965800-1772987400@www.bertback.nl
SUMMARY:Spirituele beurs De Wieken Roosendaal
DESCRIPTION:zondag 23 maart 10:30 – 16:30 \n 
URL:https://www.bertback.nl/event/spirituele-beurs-de-wieken-roosendaal/
LOCATION:Wijkgebouw de Wieken\, Gezellelaan 45\, Roosendaal\, 4707 CC\, Nederland
CATEGORIES:Beurs
END:VEVENT
BEGIN:VEVENT
DTSTART;TZID=UTC:20260411T100000
DTEND;TZID=UTC:20260412T170000
DTSTAMP:20260423T114210
CREATED:20240807T122928Z
LAST-MODIFIED:20260203T191450Z
UID:20524-1775901600-1776013200@www.bertback.nl
SUMMARY:Spiritueel Alternatief beurs Rijswijk
DESCRIPTION:zaterdag en zondag van 10:00 – 17:00 \nstand G 9 \n 
URL:https://www.bertback.nl/event/spiritueel-alternatief-beurs-rijswijk/
LOCATION:De Broodfabriek\, Volmerlaan 12\, Rijswijk\, 2288 GD\, Nederland
CATEGORIES:Beurs
ATTACH;FMTTYPE=image/jpeg:https://www.bertback.nl/wp-content/uploads/2024/08/Logo-Spiritueel-Alternatief-350x99-1.jpg
END:VEVENT
END:VCALENDAR